BEGIN:VCALENDAR
VERSION:2.0
PRODID:-//eventon.com NONSGML v1.0//EN
CALSCALE:GREGORIAN
METHOD:PUBLISH
BEGIN:VEVENT
UID:69e9d2a261d30
DTSTAMP:20260423T080450Z
DTSTART:20250609T100000Z
DTEND:20250609T215900Z
LOCATION:Gemeindehaus IIllerich Array
SUMMARY:Verbandsgemeindekonzert der Spielmannszüge Illerich
DESCRIPTION:Verbandsgemeindekonzert der Spielmannszüge Illerich\nhttps://i
 llerich.de/events/verbandsgemeindekonzert-der-spielmannszuege-illerich/
URL:https://illerich.de/events/verbandsgemeindekonzert-der-spielmannszuege-illerich/
END:VEVENT
END:VCALENDAR