BEGIN:VCALENDAR
VERSION:2.0
PRODID:-//eventon.com NONSGML v1.0//EN
CALSCALE:GREGORIAN
METHOD:PUBLISH
BEGIN:VEVENT
UID:69e7af28c235b
DTSTAMP:20260421T170856Z
DTSTART:20240423T171500Z
DTEND:20240423T215900Z
LOCATION:
SUMMARY:Sitzung des Wahlausschusses für die Ortsgemeinderatswahl in Illerich
DESCRIPTION:Am Dienstag\,  den 23.04.2024 findet um 19:15 Uhr eine öffentl
 iche Sitzung des Wahlausschusses für die Ortsgemeinderatswahl in Illerich 
 am 09.06.2024 im Gemeindehaus\,  Kastorstraße 2\,  56814 Illerich\,  statt
 . Tagesordnung: Verpflichtung der Beisitzer und Schriftführer Prüfung und
  Zulassung der für Gemeinderatswahl eingereichten Wahlvorschläge Illerich
 \,  den 12.04.2024 Helmut Braunschädel Ortsbürgermeister und Wahlleiter G
 emeinderatswahl\nhttps://illerich.de/events/sitzung-des-wahlausschusses-202
 4/
URL:https://illerich.de/events/sitzung-des-wahlausschusses-2024/
END:VEVENT
END:VCALENDAR