BEGIN:VCALENDAR
VERSION:2.0
PRODID:-//eventon.com NONSGML v1.0//EN
CALSCALE:GREGORIAN
METHOD:PUBLISH
BEGIN:VEVENT
UID:69e791e0126ff
DTSTAMP:20260421T150400Z
DTSTART:20240418T170000Z
DTEND:20240418T215900Z
LOCATION:Gemeindehaus Illerich Gemeindehaus Illerich
SUMMARY:41. Sitzung des Ortsgemeinderates Illerich
DESCRIPTION:Am Donnerstag\,  18.04.2024 um 19:00 Uhr findet eine öffentlic
 he Sitzung statt. 41. Sitzung des Ortsgemeinderates Illerich Gremien: Ortsg
 emeinderat Illerich Ort: Illerich Raum: Gemeindehaus Illerich Tagesordnung 
 Öffentlicher Teil Einwohnerfragestunde gemäß § 16 a GemO Beratung und B
 eschlussfassung über die Stilllegungsflächen im Rahmen der Förderung &#8
 222;Klimaangepasstes Waldmanagement&#8220; Beratung und Beschlussfassung ü
 ber den[..]\nhttps://illerich.de/events/41-sitzung-des-ortsgemeinderates-il
 lerich-2024/
URL:https://illerich.de/events/41-sitzung-des-ortsgemeinderates-illerich-2024/
END:VEVENT
END:VCALENDAR