BEGIN:VCALENDAR
VERSION:2.0
PRODID:-//eventon.com NONSGML v1.0//EN
CALSCALE:GREGORIAN
METHOD:PUBLISH
BEGIN:VEVENT
UID:69ebcfdc6a89c
DTSTAMP:20260424T201732Z
DTSTART:20240418T163000Z
DTEND:20240418T215900Z
LOCATION:Gemeindehaus Illerich Gemeindehaus Illerich
SUMMARY:12. Sitzung des Personalausschusses des Ortsgemeinderates Illerich
DESCRIPTION:Am Donnerstag\,  18.04.2024 um 18:30 Uhr findet eine nichtöffe
 ntliche Sitzung statt. 12. Sitzung des Personalausschusses des Ortsgemeinde
 rates Illerich Gremien: Personalausschuss Illerich Ort: Illerich Raum: Geme
 indehaus Illerich Tagesordnung Nichtöffentliche Sitzung Personalangelegenh
 eiten Personalangelegenheiten Personalangelegenheit Mitteilungen des Vorsit
 zenden Ortsgemeinde Illerich\,  08.04.2024 Helmut Braunschädel\,  Ortsbür
 germeister\nhttps://illerich.de/events/12-sitzung-des-personalausschusses-d
 es-ortsgemeinderates-illerich-2024/
URL:https://illerich.de/events/12-sitzung-des-personalausschusses-des-ortsgemeinderates-illerich-2024/
END:VEVENT
END:VCALENDAR