BEGIN:VCALENDAR
VERSION:2.0
PRODID:-//eventon.com NONSGML v1.0//EN
CALSCALE:GREGORIAN
METHOD:PUBLISH
BEGIN:VEVENT
UID:69e9117113a37
DTSTAMP:20260422T182033Z
DTSTART:20231107T173000Z
DTEND:20231107T225000Z
LOCATION:Gemeindehaus Illerich Gemeindehaus Illerich
SUMMARY:10. Sitzung des Personalausschusses des Ortsgemeinderates Illerich
DESCRIPTION:Am Dienstag\,  07.11.2023 um 18:30 Uhr findet eine nichtöffent
 liche Sitzung statt. 10. Sitzung des Personalausschusses des Ortsgemeindera
 tes Illerich Gremien: Personalausschuss Illerich Ort: Illerich Raum: Gemein
 dehaus Illerich Tagesordnung Nichtöffentliche Sitzung Personalangelegenhei
 ten Personalangelegenheiten Mitteilungen des Vorsitzenden Ortsgemeinde Ille
 rich\,  27.10.2023 Helmut Braunschädel\,  Ortsbürgermeister\nhttps://ille
 rich.de/events/10-sitzung-des-personalausschusses-des-ortsgemeinderates-ill
 erich-2023/
URL:https://illerich.de/events/10-sitzung-des-personalausschusses-des-ortsgemeinderates-illerich-2023/
END:VEVENT
END:VCALENDAR