BEGIN:VCALENDAR
VERSION:2.0
PRODID:-//eventon.com NONSGML v1.0//EN
CALSCALE:GREGORIAN
METHOD:PUBLISH
BEGIN:VEVENT
UID:69e98450295ed
DTSTAMP:20260423T023040Z
DTSTART:20220909T170000Z
DTEND:20220909T215000Z
LOCATION:Gasthaus "Am Brunnen". Illerich Gasthaus 
SUMMARY:Freiwillige Feuerwehr Illerich - Jahreshauptversammlung 2022
DESCRIPTION:Jahreshauptversammlung am Freitag\,  den 09.09.2022 um 19:00 Uh
 r im Gasthaus am Brunnen. Folgende Punkte stehen auf der Tagesordnung: Begr
 üßung Jahresrückblick 2021 Kassenbericht Bericht der Kassenprüfer Entla
 stung des Vorstandes Neuwahlen Vorschau Verschiedenes Es lädt ein: Der Ver
 ein zur Förderung des Feuerwehrgedankens Illerich e. V.\nhttps://illerich.
 de/events/freiwillige-feuerwehr-illerich-jahreshauptversammlung-2022/
URL:https://illerich.de/events/freiwillige-feuerwehr-illerich-jahreshauptversammlung-2022/
END:VEVENT
END:VCALENDAR