BEGIN:VCALENDAR
VERSION:2.0
PRODID:-//eventon.com NONSGML v1.0//EN
CALSCALE:GREGORIAN
METHOD:PUBLISH
BEGIN:VEVENT
UID:69e952e729c92
DTSTAMP:20260422T225951Z
DTSTART:20220826T170000Z
DTEND:20220826T215000Z
LOCATION:Dorfladen Illerich
SUMMARY:Jahreshauptversammlung 2022 Dorfladen Illerich w. V.
DESCRIPTION:Jahreshauptversammlung Dorfladen Illerich w. V. 2022 Ort: Dorfl
 aden &#8211; Hof/Lager\,  56814 Illerich Datum: Freitag\,  26.08.2022\,  Be
 ginn: 19:00 Uhr\nhttps://illerich.de/events/jahreshauptversammlung-2022-dor
 fladen-illerich-w-v/
URL:https://illerich.de/events/jahreshauptversammlung-2022-dorfladen-illerich-w-v/
END:VEVENT
END:VCALENDAR