BEGIN:VCALENDAR
VERSION:2.0
PRODID:-//eventon.com NONSGML v1.0//EN
CALSCALE:GREGORIAN
METHOD:PUBLISH
BEGIN:VEVENT
UID:69e5e2d9c5a9d
DTSTAMP:20260420T082457Z
DTSTART:20220315T173000Z
DTEND:20220315T225000Z
LOCATION:Gemeindehaus Illerich Gemeindehaus Illerich
SUMMARY:06. Sitzung des Personalausschusses des Ortsgemeinderates Illerich
DESCRIPTION:Am Dienstag\,  15.03.2022 um 18:30 Uhr findet eine nichtöffent
 liche Sitzung statt. 6. Sitzung des Personalausschusses des Ortsgemeinderat
 es Illerich Gremien: Personalausschuss Illerich Ort: Illerich Sitzungsraum:
  Gemeindehaus Illerich Nichtöffentliche Sitzung Personalangelegenheit Pers
 onalangelegenheit Mitteilungen des Vorsitzenden 3-G-Nachweis/Maskenpflicht 
 bei Ratssitzungen: Aufgrund der Corona-Bekämpfungsverordnung Rheinland-Pfa
 lz ist die Vorlage eines aktuellen 3-G-Nachweises (geimpft\,  genesen oder 
 getestet)[..]\nhttps://illerich.de/events/06-sitzung-des-personalausschusse
 s-des-ortsgemeinderates-illerich-20220315/
URL:https://illerich.de/events/06-sitzung-des-personalausschusses-des-ortsgemeinderates-illerich-20220315/
END:VEVENT
END:VCALENDAR