BEGIN:VCALENDAR
VERSION:2.0
PRODID:-//eventon.com NONSGML v1.0//EN
CALSCALE:GREGORIAN
METHOD:PUBLISH
BEGIN:VEVENT
UID:69e503f74674a
DTSTAMP:20260419T163359Z
DTSTART:20211222T060000Z
DTEND:20211222T105000Z
LOCATION:Gemeindehaus Illerich Gemeindehaus Illerich
SUMMARY:Sitzung des Ortsgemeinderates Illerich
DESCRIPTION:Gremien Ortsgemeinderat Illerich Ort Illerich Raum Gemeindehaus
  Illerich Am Dienstag\,  21.12.2021\,  um 19:00 Uhr findet eine nichtöffen
 tliche Sitzung statt. Tagesordnung Nichtöffentliche Sitzung Mietangelegenh
 eit 3-G-Nachweis/Maskenpflicht bei Gremiensitzungen: Aufgrund der Corona-Be
 kämpfungsverordnung Rheinland-Pfalz ist die Vorlage eines aktuellen 3-G-Na
 chweises (geimpft\,  genesen oder getestet) für alle Sitzungsteilnehmer ve
 rpflichtend. Der Test kann ein maximal 24[..]\nhttps://illerich.de/events/s
 itzung-des-ortsgemeinderates-illerich-202112/
URL:https://illerich.de/events/sitzung-des-ortsgemeinderates-illerich-202112/
END:VEVENT
END:VCALENDAR