BEGIN:VCALENDAR
VERSION:2.0
PRODID:-//eventon.com NONSGML v1.0//EN
CALSCALE:GREGORIAN
METHOD:PUBLISH
BEGIN:VEVENT
UID:69e6f00181621
DTSTAMP:20260421T033321Z
DTSTART:20211006T060000Z
DTEND:20211006T105000Z
LOCATION:Gemeindehaus Illerich Gemeindehaus Illerich
SUMMARY:21. Sitzung des Ortsgemeinderates Illerich
DESCRIPTION:Gremien Ortsgemeinderat Illerich Ort Illerich Raum Gemeindehaus
  Illerich Am Dienstag\,  05.10.2021 um 19:00 Uhr findet eine öffentliche/n
 ichtöffentliche Sitzung statt. Tagesordnung Öffentlicher Teil Einwohnerfr
 agestunde gemäß § 16 a GemO Beratung und Beschlussfassung über die Zust
 immung zu einer Aufgabenübernahme durch die Verbandsgemeinde Kaisersesch g
 em. § 67 Abs. 4 GemO zur Erstellung eines[..]\nhttps://illerich.de/events/
 21-sitzung-des-ortsgemeinderates-illerich-2021/
URL:https://illerich.de/events/21-sitzung-des-ortsgemeinderates-illerich-2021/
END:VEVENT
END:VCALENDAR