BEGIN:VCALENDAR
VERSION:2.0
PRODID:-//eventon.com NONSGML v1.0//EN
CALSCALE:GREGORIAN
METHOD:PUBLISH
BEGIN:VEVENT
UID:69e9b4a6afb79
DTSTAMP:20260423T055654Z
DTSTART:20201103T183000Z
DTEND:20201103T235000Z
LOCATION:Gemeindehaus Illerich Gemeindehaus Illerich
SUMMARY:02. Sitzung des Personalausschusses des Ortsgemeinderates Illerich
DESCRIPTION:Am Dienstag\,  03.11.2020 um 18:30 Uhr findet eine nichtöffent
 liche Sitzung statt. 2. Sitzung des Personalausschusses des Ortsgemeinderat
 es Illerich Gremien: Personalausschuss Illerich Ort: Illerich Sitzungsraum:
  Gemeindehaus Illerich Tagesordnung Nichtöffentliche Sitzung:1.Personalang
 elegenheit Personalangelegenheit Personalangelegenheit Personalangelegenhei
 t Personalangelegenheiten Mitteilungen des Vorsitzenden Aufgrund der aktuel
 len Corona-Bekämpfungsverordnung Rheinland-Pfalz ist in öffentlichen Einr
 ichtungen\,  insbesondere in geschlossenen Räumen\,  bei[..]\nhttps://ille
 rich.de/events/02-sitzung-des-personalausschusses-des-ortsgemeinderates-ill
 erich-202011/
URL:https://illerich.de/events/02-sitzung-des-personalausschusses-des-ortsgemeinderates-illerich-202011/
END:VEVENT
END:VCALENDAR