BEGIN:VCALENDAR
VERSION:2.0
PRODID:-//eventon.com NONSGML v1.0//EN
CALSCALE:GREGORIAN
METHOD:PUBLISH
BEGIN:VEVENT
UID:69e8d218895b3
DTSTAMP:20260422T135016Z
DTSTART:20201106T193000Z
DTEND:20201106T235000Z
LOCATION:Gasthaus "Am Brunnen" Gasthaus
SUMMARY:Abgesagt - Mitgliederversammlung der Jagdgenossenschaft Illerich
DESCRIPTION:Aus aktuellem Anlass (Ausbreitung des Coronavirus) haben wir un
 s entschlossen\,  die für den 06.11.2020 angesetzte Mitgliederversammlung 
 der Jagdgenossenschaft Illerich abzusagen. Wir werden die Versammlung zu ei
 nem späteren Zeitpunkt durchführen. Wir bitten um Ihr Verständnis. Karl-
 Heinz Gilles\,  Jagdvorsteher\nhttps://illerich.de/events/mitgliederversamm
 lung-der-jagdgenossenschaft-illerich-202010/
URL:https://illerich.de/events/mitgliederversammlung-der-jagdgenossenschaft-illerich-202010/
END:VEVENT
END:VCALENDAR