BEGIN:VCALENDAR
VERSION:2.0
PRODID:-//eventon.com NONSGML v1.0//EN
CALSCALE:GREGORIAN
METHOD:PUBLISH
BEGIN:VEVENT
UID:69e6031de3186
DTSTAMP:20260420T104237Z
DTSTART:20201128
DTEND:20201129
LOCATION:
SUMMARY:Seniorentag 2020
DESCRIPTION:Seniorentag 2020\nhttps://illerich.de/events/seniorentag-2020/
URL:https://illerich.de/events/seniorentag-2020/
END:VEVENT
END:VCALENDAR