BEGIN:VCALENDAR
VERSION:2.0
PRODID:-//eventon.com NONSGML v1.0//EN
CALSCALE:GREGORIAN
METHOD:PUBLISH
BEGIN:VEVENT
UID:69e53526f0fe9
DTSTAMP:20260419T200350Z
DTSTART:20200815
DTEND:20200816
LOCATION:
SUMMARY:Schutzhüttenfest
DESCRIPTION:Schutzhüttenfest\nhttps://illerich.de/events/schutzhuettenfest
 -2020/
URL:https://illerich.de/events/schutzhuettenfest-2020/
END:VEVENT
END:VCALENDAR