BEGIN:VCALENDAR
VERSION:2.0
PRODID:-//eventon.com NONSGML v1.0//EN
CALSCALE:GREGORIAN
METHOD:PUBLISH
BEGIN:VEVENT
UID:69e550c6b9b66
DTSTAMP:20260419T220142Z
DTSTART:20200814
DTEND:20200815
LOCATION:
SUMMARY:Ferienprogramm
DESCRIPTION:Ferienprogramm\nhttps://illerich.de/events/ferienprogramm-2020/
URL:https://illerich.de/events/ferienprogramm-2020/
END:VEVENT
END:VCALENDAR