BEGIN:VCALENDAR
VERSION:2.0
PRODID:-//eventon.com NONSGML v1.0//EN
CALSCALE:GREGORIAN
METHOD:PUBLISH
BEGIN:VEVENT
UID:69e974161f7a0
DTSTAMP:20260423T012126Z
DTSTART:20191031
DTEND:20191101
LOCATION:Gasthaus "Am Brunnen". Illerich Gasthaus 
SUMMARY:Jahreshauptversammlung des Spielmannszuges
DESCRIPTION:Am 31.10.2019 findet ab 19:30 Uhr unsere diesjährige Jahreshau
 ptversammlung im Gasthaus „Am Brunnen“ statt. Wir beginnen\,  wie in de
 n letzten Jahren\,  mit einem gemeinsamen Abendessen. Hier habt Ihr die Wah
 l zwischen Schnitzel oder Hackbraten\,  jeweils mit Pommes und Soße. Bei d
 er Versammlung sind folgende Punkte vorgesehen: Begrüßung durch den 1.[..
 ]\nhttps://illerich.de/events/jahreshauptversammlung-des-spielmannszuges-20
 19/
URL:https://illerich.de/events/jahreshauptversammlung-des-spielmannszuges-2019/
END:VEVENT
END:VCALENDAR