BEGIN:VCALENDAR
VERSION:2.0
PRODID:-//eventon.com NONSGML v1.0//EN
CALSCALE:GREGORIAN
METHOD:PUBLISH
BEGIN:VEVENT
UID:69eaf0649d9e1
DTSTAMP:20260424T042404Z
DTSTART:20190216T201100Z
DTEND:20190216T235000Z
LOCATION:Gasthaus "Am Brunnen". Illerich Gasthaus 
SUMMARY:1. Kappensitzung des IKV
DESCRIPTION:Liebe Narren\,  es ist wieder so weit\,  vor uns liegt die 5. J
 ahreszeit. Für die Illericher Bühne haben sich die Aktiven ein tolles Pro
 gramm ausgedacht\,  ob groß\,  ob klein\,  ob jung oder alt\,  wir verspre
 chen\,  dass hier jeder lacht! Darum kommt doch all&#8216; zur Sitzung in d
 en Saal und unterstützt[..]\nhttps://illerich.de/events/1-kappensitzung-de
 s-ikv-2019/
URL:https://illerich.de/events/1-kappensitzung-des-ikv-2019/
END:VEVENT
END:VCALENDAR