BEGIN:VCALENDAR
VERSION:2.0
PRODID:-//eventon.com NONSGML v1.0//EN
CALSCALE:GREGORIAN
METHOD:PUBLISH
BEGIN:VEVENT
UID:69e7a68a433f3
DTSTAMP:20260421T163210Z
DTSTART:20190106
DTEND:20190107
LOCATION:
SUMMARY:Winterwanderung des Spielmannszuges
DESCRIPTION:Winterwanderung des Spielmannszuges\nhttps://illerich.de/events
 /winterwanderung-des-spielmannszuges-2019/
URL:https://illerich.de/events/winterwanderung-des-spielmannszuges-2019/
END:VEVENT
END:VCALENDAR