BEGIN:VCALENDAR
VERSION:2.0
PRODID:-//eventon.com NONSGML v1.0//EN
CALSCALE:GREGORIAN
METHOD:PUBLISH
BEGIN:VEVENT
UID:69ed8d2f7445a
DTSTAMP:20260426T035735Z
DTSTART:20181013T183000Z
DTEND:20181013T235000Z
LOCATION:
SUMMARY:Vereinsausflug des IKV Illerich
DESCRIPTION:Hallo Karnevalsfreunde\,  unser diesjÃ¤hriger Vereinsausflug fÃ
 ¼hrt uns am Samstag\,  13. Oktober 2018 nach Hambuch zum Oktoberfest. Wir t
 reffen uns pÃ¼nktlich um 18:30 Uhr auf dem Dorfplatz. FÃ¼r die Hin- und RÃ¼
 ckfahrt haben wir einen Bus organisiert. Pro Person werden wir einen Unkost
 enbeitrag von 10\, - â‚¬ erheben\,  den wir bei Abfahrt[..]\nhttps://illeri
 ch.de/events/vereinsausflug-des-ikv-illerich-2018/
URL:https://illerich.de/events/vereinsausflug-des-ikv-illerich-2018/
END:VEVENT
END:VCALENDAR