BEGIN:VCALENDAR
VERSION:2.0
PRODID:-//eventon.com NONSGML v1.0//EN
CALSCALE:GREGORIAN
METHOD:PUBLISH
BEGIN:VEVENT
UID:69ed6918bd729
DTSTAMP:20260426T012336Z
DTSTART:20180505T123000Z
DTEND:20180505T235000Z
LOCATION:Dorfplatz Illerich
SUMMARY:Ausflug der Jagdgenossenschaft Illerich
DESCRIPTION:Der Ausflug startet um 12:30 Uhr in Illerich\,  Dorfplatz. Wir 
 fahren nach Ahrweiler und besichtigen den ehemaligen Regierungsbunker. Die 
 Führung dauert ca. 1\, 5 Stunden. Nach der Besichtigung machen wir noch ei
 ne Weinprobe mit Vesper. Anmeldung bei Karl-Heinz Gilles\,  Tel. 6589. Der 
 Ausflug findet statt am 05.05.2018. Wir wünschen Euch heute[..]\nhttps://i
 llerich.de/events/ausflug-der-jagdgenossenschaft-illerich-2018/
URL:https://illerich.de/events/ausflug-der-jagdgenossenschaft-illerich-2018/
END:VEVENT
END:VCALENDAR