BEGIN:VCALENDAR
VERSION:2.0
PRODID:-//eventon.com NONSGML v1.0//EN
CALSCALE:GREGORIAN
METHOD:PUBLISH
BEGIN:VEVENT
UID:69e91784a5435
DTSTAMP:20260422T184628Z
DTSTART:20180306T190000Z
DTEND:20180306T235000Z
LOCATION:Gemeindehaus Illerich Gemeindehaus Illerich
SUMMARY:36. Sitzung des Ortsgemeinderates Illerich
DESCRIPTION:öffentliche Sitzung Gremien:   Ortsgemeinderat Illerich Ort: 
   Illerich Raum:   Gemeindehaus Illerich Tagesordnung: Einwohnerfragestun
 de gemäß § 16 a Gem0 Beratung und Beschlussfassung über den Forstwirtsc
 haftsplan der Ortsgemeinde Illerich für das Forstwirtschaftsjahr 2018 Bera
 tung und Beschlussfassung über die Anpassung der Steuerhebesätze für Gru
 ndsteuer A\,  Grundsteuer B und Gewerbesteuer Beratung und[..]\nhttps://ill
 erich.de/events/36-sitzung-des-ortsgemeinderates-illerich/
URL:https://illerich.de/events/36-sitzung-des-ortsgemeinderates-illerich/
END:VEVENT
END:VCALENDAR