BEGIN:VCALENDAR
VERSION:2.0
PRODID:-//eventon.com NONSGML v1.0//EN
CALSCALE:GREGORIAN
METHOD:PUBLISH
BEGIN:VEVENT
UID:69e8bcb2a0c9a
DTSTAMP:20260422T121858Z
DTSTART:20180804
DTEND:20180805
LOCATION:Schutzhütte Illerich Schutzhütte Illerich
SUMMARY:Schutzhüttenfest der Frauengemeinschaft Illerich
DESCRIPTION:Schutzhüttenfest der Frauengemeinschaft Illerich\nhttps://ille
 rich.de/events/schutzhuettenfest-der-frauengemeinschaft-illerich-2018/
URL:https://illerich.de/events/schutzhuettenfest-der-frauengemeinschaft-illerich-2018/
END:VEVENT
END:VCALENDAR