BEGIN:VCALENDAR
VERSION:2.0
PRODID:-//eventon.com NONSGML v1.0//EN
CALSCALE:GREGORIAN
METHOD:PUBLISH
BEGIN:VEVENT
UID:69e667e223a36
DTSTAMP:20260420T175234Z
DTSTART:20171008T120000Z
DTEND:20171008T235000Z
LOCATION:Dorfplatz Illerich
SUMMARY:Wanderung
DESCRIPTION:Liebe Wanderfreunde\,  am Sonntag\,  den 08.10.2017 nehmen wir 
 an der &#8222;Komm-mit-Wanderung&#8220; vom Eifelverein Kaisersesch teil. E
 s werden zwei Rundwanderwege angeboten\,  7km und 14km. Unterwegs sind Getr
 änkestände aufgebaut sowie am Start und Ziel in der &#8222;Alten Schule&#
 8220; gibt es zu essen und zu trinken. Startgebühr: 1€ Abfahrt auf dem 
 Dorfplatz Illerich um[..]\nhttps://illerich.de/events/wanderung-copy-3/
URL:https://illerich.de/events/wanderung-copy-3/
END:VEVENT
END:VCALENDAR