BEGIN:VCALENDAR
VERSION:2.0
PRODID:-//eventon.com NONSGML v1.0//EN
CALSCALE:GREGORIAN
METHOD:PUBLISH
BEGIN:VEVENT
UID:69ed725f048fd
DTSTAMP:20260426T020311Z
DTSTART:20161120T100000Z
DTEND:20161120T000000Z
LOCATION:Gemeindehaus Illerich Gemeindehaus Illerich
SUMMARY:Brunch des Kirchenchores Illerich-Wirfus
DESCRIPTION:Der Kirchenchor Illerich-Wirfus veranstaltet am Sonntag\,  20.1
 1.2016 ab 10:00 Uhr im Gemeindehaus in Illerich einen Brunch. Eingeladen si
 nd alle Vereinsmitglieder mit Partner. Anmeldungen bitte bis 12.11.2016 unt
 er der Telefonnummer 3678 oder 7336. &nbsp; &nbsp;\nhttps://illerich.de/eve
 nts/brunch-des-kirchenchores-illerich-wirfus/
URL:https://illerich.de/events/brunch-des-kirchenchores-illerich-wirfus/
END:VEVENT
END:VCALENDAR