BEGIN:VCALENDAR
VERSION:2.0
PRODID:-//eventon.com NONSGML v1.0//EN
CALSCALE:GREGORIAN
METHOD:PUBLISH
BEGIN:VEVENT
UID:69e827e6a02b8
DTSTAMP:20260422T014406Z
DTSTART:20150116
DTEND:20150117
LOCATION:
SUMMARY:Wertstoff
DESCRIPTION:Wertstoff\nhttps://illerich.de/events/wertstoff-17/
URL:https://illerich.de/events/wertstoff-17/
END:VEVENT
END:VCALENDAR