BEGIN:VCALENDAR
VERSION:2.0
PRODID:-//eventon.com NONSGML v1.0//EN
CALSCALE:GREGORIAN
METHOD:PUBLISH
BEGIN:VEVENT
UID:69e7710a897fd
DTSTAMP:20260421T124354Z
DTSTART:20150228
DTEND:20150301
LOCATION:Brohl-Luetzing Brohl-Luetzing
SUMMARY:Osterwochenende
DESCRIPTION:Osterwochenende\nhttps://illerich.de/events/osterwochenende/
URL:https://illerich.de/events/osterwochenende/
END:VEVENT
END:VCALENDAR