BEGIN:VCALENDAR
VERSION:2.0
PRODID:-//eventon.com NONSGML v1.0//EN
CALSCALE:GREGORIAN
METHOD:PUBLISH
BEGIN:VEVENT
UID:69eb893ea6faa
DTSTAMP:20260424T151614Z
DTSTART:20150315T130000Z
DTEND:20150315T140000Z
LOCATION:Laacher See Laacher See
SUMMARY:Wanderung
DESCRIPTION:Wanderung um den Laacher See. Treffpunkt um 13:00 auf dem Dorfp
 latz in Illerich.\nhttps://illerich.de/events/wanderung-6/
URL:https://illerich.de/events/wanderung-6/
END:VEVENT
END:VCALENDAR