BEGIN:VCALENDAR
VERSION:2.0
PRODID:-//eventon.com NONSGML v1.0//EN
CALSCALE:GREGORIAN
METHOD:PUBLISH
BEGIN:VEVENT
UID:69e9113589a1d
DTSTAMP:20260422T181933Z
DTSTART:20150514
DTEND:20150515
LOCATION:
SUMMARY:Christi Himmelfahrt
DESCRIPTION:gesetzlicher Feiertag in RLP\nhttps://illerich.de/events/christ
 i-himmelfahrt/
URL:https://illerich.de/events/christi-himmelfahrt/
END:VEVENT
END:VCALENDAR