BEGIN:VCALENDAR
VERSION:2.0
PRODID:-//eventon.com NONSGML v1.0//EN
CALSCALE:GREGORIAN
METHOD:PUBLISH
BEGIN:VEVENT
UID:69ea619988593
DTSTAMP:20260423T181449Z
DTSTART:20150912T200000Z
DTEND:20150912T210000Z
LOCATION:Dorfplatz Illerich
SUMMARY:Kirmes - Bayrischer Abend
DESCRIPTION:Bayrischer Abend mit Nobel Krainer\nhttps://illerich.de/events/
 kirmes-bayrischer-abend/
URL:https://illerich.de/events/kirmes-bayrischer-abend/
END:VEVENT
END:VCALENDAR