BEGIN:VCALENDAR
VERSION:2.0
PRODID:-//eventon.com NONSGML v1.0//EN
CALSCALE:GREGORIAN
METHOD:PUBLISH
BEGIN:VEVENT
UID:69eaf862c14b6
DTSTAMP:20260424T045810Z
DTSTART:20150915T180000Z
DTEND:20150915T190000Z
LOCATION:Dorfplatz Illerich
SUMMARY:Kirmes - grosse Verlosung
DESCRIPTION:Lospreis nur 0.50&#038;euro.\nhttps://illerich.de/events/kirmes
 -grosse-verlosung/
URL:https://illerich.de/events/kirmes-grosse-verlosung/
END:VEVENT
END:VCALENDAR