BEGIN:VCALENDAR
VERSION:2.0
PRODID:-//eventon.com NONSGML v1.0//EN
CALSCALE:GREGORIAN
METHOD:PUBLISH
BEGIN:VEVENT
UID:69ec3bf9a255e
DTSTAMP:20260425T035849Z
DTSTART:20151208T190000Z
DTEND:20151208T200000Z
LOCATION:
SUMMARY:17. Sitzung des Ortsgemeinderates Illerich
DESCRIPTION:oeffentliche/Nichtoeffentliche Sitzung Gremien: � Ortsgemeind
 erat Illerich Ort: � Illerich Raum: � Gemeindehaus Illerich Tagesordnun
 g: oeffentliche Sitzung: Einwohnerfragestunde gemaess � 16 a GemO Beratun
 g und Beschlussfassung ueber den Forstwirtschaftsplan der Ortsgemeinde Ille
 rich fuer das Forstwirtschaftsjahr 2016 Mitteilung des Vorsitzenden Nichtoe
 ffentliche Sitzung: Zuschussangelegenheit Bauangelegenheit Grundstuecksange
 legenheit Mitteilung des Vorsitzenden\nhttps://illerich.de/events/17-sitzun
 g-des-ortsgemeinderates-illerich/
URL:https://illerich.de/events/17-sitzung-des-ortsgemeinderates-illerich/
END:VEVENT
END:VCALENDAR