BEGIN:VCALENDAR
VERSION:2.0
PRODID:-//eventon.com NONSGML v1.0//EN
CALSCALE:GREGORIAN
METHOD:PUBLISH
BEGIN:VEVENT
UID:69ec9998e6a28
DTSTAMP:20260425T103816Z
DTSTART:20160320T123000Z
DTEND:20160320T133000Z
LOCATION:Cochem Cochem
SUMMARY:SpvGG Cochem II - SG Illerich/Landkern
DESCRIPTION:SpvGG Cochem II - SG Illerich/Landkern\nhttps://illerich.de/eve
 nts/spvgg-cochem-ii-sg-illerichlandkern/
URL:https://illerich.de/events/spvgg-cochem-ii-sg-illerichlandkern/
END:VEVENT
END:VCALENDAR