BEGIN:VCALENDAR
VERSION:2.0
PRODID:-//eventon.com NONSGML v1.0//EN
CALSCALE:GREGORIAN
METHOD:PUBLISH
BEGIN:VEVENT
UID:69eadd628616f
DTSTAMP:20260424T030258Z
DTSTART:20160726
DTEND:20160727
LOCATION:Gemeindehaus Illerich Gemeindehaus Illerich
SUMMARY:Seniorenkaffee
DESCRIPTION:Seniorenkaffee\nhttps://illerich.de/events/seniorenkaffee-6/
URL:https://illerich.de/events/seniorenkaffee-6/
END:VEVENT
END:VCALENDAR